BEGIN:VCALENDAR
VERSION:2.0
PRODID:-//ActiveBury//Events//EN
CALSCALE:GREGORIAN
BEGIN:VEVENT
UID:event-1610@activebury.com
DTSTAMP:20260425T134000Z
SUMMARY:Forbidden Broadway Greatest Hits
DTSTART:20260315T160000
LOCATION:Art League of Ocean City 502 94th St.
DESCRIPTION:Newly revised by its original creator\, Gerard Alessandrini\, this legendary long-running Off-Broadway musical revue delivers a hilarious\, razor-sharp send-up of Broadway’s biggest hits and brightest stars. With ingenious parodies\, rapid-fire comedy\, and a deep affection for the art form\, FORBIDDEN BROADWAY gleefully skewers iconic shows\, unforgettable performers\, and beloved songwriters in a fast-paced evening of pure theatrical joy.\n\nEverything from Wicked to Annie is fair game. Every star from Liza to Barbara gives themselves a roast. If you’re a lover of musicals\, comedy\, and all things just a tad bit rude\, this is the show for you!\n\nParental discretion advised\, contains mild language and mild mature content.\nMore info: https://www.lowershorepac.org/show-tickets\nActiveBury: https://www.activebury.com/events/1610
URL:https://www.activebury.com/events/1610
END:VEVENT
END:VCALENDAR
