BEGIN:VCALENDAR
VERSION:2.0
PRODID:-//ActiveBury//Events//EN
CALSCALE:GREGORIAN
BEGIN:VEVENT
UID:event-1609@activebury.com
DTSTAMP:20260425T133306Z
SUMMARY:Show All
DTSTART:20260227T090000
DTEND:20260227T170000
DESCRIPTION:More info: https://worcesterlibrary.libcal.com/calendar/Library_Events\nActiveBury: https://www.activebury.com/events/1609
URL:https://www.activebury.com/events/1609
END:VEVENT
END:VCALENDAR
