BEGIN:VCALENDAR
VERSION:2.0
PRODID:-//ActiveBury//Events//EN
CALSCALE:GREGORIAN
BEGIN:VEVENT
UID:event-1606@activebury.com
DTSTAMP:20260425T133846Z
SUMMARY:POPLAR HILL MANSION FESTIVAL: CELEBRATING OVER 200 YEARS OF HISTORY
DTSTART:20260503T120000
DTEND:20260503T040000
LOCATION:Poplar Hill Mansion\, Salisbury\, MD
DESCRIPTION:May 3rd from 12:00-4:00. Come to the award-winning Annual Poplar Hill Mansion Festival as we celebrate the Federal Period history of Salisbury! The day long festival will include War of 1812 re-enactors: Chesapeake Independent Blues\, period music\, period dancing from the Dover Dancers\, educational displays from local nonprofits and historical societies\, a children’s activity area with crafts and games\, and a May Pole to celebrate May Day. There will also be a Market Square with vendors selling handcrafted items. It’s sure to be a fun filled day! Tours of Poplar Hill Mansion will also be available throughout the day and volunteers will be wearing period dress. This is a FREE event with parking located in the Bethesda Methodist Church parking lot on the corner of Division St. and Isabella St. in the Newtown Neighborhood. RED\, WHITE\, & BLUE TEA\nMore info: https://poplarhillmansion.org/events/\nActiveBury: https://www.activebury.com/events/1606
URL:https://www.activebury.com/events/1606
END:VEVENT
END:VCALENDAR
