BEGIN:VCALENDAR
VERSION:2.0
PRODID:-//ActiveBury//Events//EN
CALSCALE:GREGORIAN
BEGIN:VEVENT
UID:event-1605@activebury.com
DTSTAMP:20260425T133959Z
SUMMARY:ST. PATRICK’S DAY TEA —– SOLD OUT!!!!
DTSTART:20260312T120000
LOCATION:Poplar Hill Mansion\, Salisbury\, MD
DESCRIPTION:March 12th at 12:00. Come enjoy all things Irish at our St. Patrick’s Day Tea. The menu will consist of Irish inspired recipes including Potato Soup\, Cucumber Sandwiches\, Irish Egg Salad Sandwiches\, Corned Beef & Cabbage Sandwiches\, Irish Cheddar & Scallion Scones\, Irish Whiskey Cake\, Oreo Bailey’s Truffles\, Guinness Stout Mini Chocolate Bundt Cakes with Caramel Drizzle\, all served with Irish Breakfast Tea. Bring a friend to this fun event! Cost is $25.00 per person. RSVP is required and seating is very limited. Please click HERE to make online reservations and pay via credit card or email curator@poplarhillmansion.org with the names of those in your party to RSVP. EXHIBIT GRAND OPENING\nMore info: https://poplarhillmansion.org/events/\nActiveBury: https://www.activebury.com/events/1605
URL:https://www.activebury.com/events/1605
END:VEVENT
END:VCALENDAR
