BEGIN:VCALENDAR
VERSION:2.0
PRODID:-//ActiveBury//Events//EN
CALSCALE:GREGORIAN
BEGIN:VEVENT
UID:event-1604@activebury.com
DTSTAMP:20260425T134546Z
SUMMARY:36th Annual Cruisin Ocean City
DTSTART;VALUE=DATE:20260430
DTEND;VALUE=DATE:20260504
LOCATION:Inlet Park | S. 2nd Street\, Bayside - Ocean City\, MD\, 21842
DESCRIPTION:Get ready for one of the hottest car shows on the East Coast\, the 36th Annual Cruisin Ocean City\, as it returns to the beachside resort town of Ocean...\nMore info: https://www.ococean.com/event/36th-annual-cruisin-ocean-city/2659/\nActiveBury: https://www.activebury.com/events/1604
URL:https://www.activebury.com/events/1604
END:VEVENT
END:VCALENDAR
