BEGIN:VCALENDAR
VERSION:2.0
PRODID:-//ActiveBury//Events//EN
CALSCALE:GREGORIAN
BEGIN:VEVENT
UID:event-1603@activebury.com
DTSTAMP:20260425T133948Z
SUMMARY:No fee on Wildlife Drive\, Memorial Day
DTSTART;VALUE=DATE:20260525
DTEND;VALUE=DATE:20260526
LOCATION:Blackwater NWR Visitor Center\, Cambridge\, MD
DESCRIPTION:No fee on Wildlife Drive\, Memorial Day\nMore info: https://www.friendsofblackwater.org/events.html\nActiveBury: https://www.activebury.com/events/1603
URL:https://www.activebury.com/events/1603
END:VEVENT
END:VCALENDAR
