BEGIN:VCALENDAR
VERSION:2.0
PRODID:-//ActiveBury//Events//EN
CALSCALE:GREGORIAN
BEGIN:VEVENT
UID:event-1600@activebury.com
DTSTAMP:20260425T133957Z
SUMMARY:Free birding walk with Ron Ketter\, meet at Visitor Center at 8am
DTSTART:20260322T080000
LOCATION:Blackwater NWR Visitor Center\, Cambridge\, MD
DESCRIPTION:Free birding walk with Ron Ketter\, meet at Visitor Center at 8am\nMore info: https://www.friendsofblackwater.org/events.html\nActiveBury: https://www.activebury.com/events/1600
URL:https://www.activebury.com/events/1600
END:VEVENT
END:VCALENDAR
