BEGIN:VCALENDAR
VERSION:2.0
PRODID:-//ActiveBury//Events//EN
CALSCALE:GREGORIAN
BEGIN:VEVENT
UID:event-16@activebury.com
DTSTAMP:20260425T133303Z
SUMMARY:The Miniature Workshop: Dollhouse Edition
DTSTART:20260105T173000
DTEND:20260105T183000
LOCATION:Paul S. Sarbanes Branch
DESCRIPTION:This event is in the "Ages 6-11" group This event is in the "Ages 12-18" group This event is in the "Ages 18+" group 5:30pm–6:30pm Ages 6-11\, Ages 12-18\, Ages 18+ Paul S. Sarbanes Branch Closed Registration Available This event is in the "Ages 6-11" group This event is in the "Ages 12-18" group This event is in the "Ages 18+" group Jan 5 2026 Mon The Miniature Workshop: Dollhouse Edition 5:30pm–6:30pm Paul S. Sarbanes Branch Closed Please note you are looking at an event that has already happened. Paul S. Sarbanes Branch Children's Program Room Ages 6-11 \, Ages 12-18 \, Ages 18+ Arts and Crafts \, Class or Workshop Registration Available Step into a world of miniature magic at The Miniature Workshop: Dollhouse Edition. Whether you're a long-time dollhouse enthusiast or just discovering the c\nMore info: https://www.wicomicolibrary.org/event/miniature-workshop-dollhouse-edition-21083\nActiveBury: https://www.activebury.com/events/16
URL:https://www.activebury.com/events/16
END:VEVENT
END:VCALENDAR
