BEGIN:VCALENDAR
VERSION:2.0
PRODID:-//ActiveBury//Events//EN
CALSCALE:GREGORIAN
BEGIN:VEVENT
UID:event-1597@activebury.com
DTSTAMP:20260425T134005Z
SUMMARY:Shore Walls Mural Festival
DTSTART;VALUE=DATE:20260530
DTEND;VALUE=DATE:20260531
LOCATION:Downtown Salisbury
DESCRIPTION:More info: https://www.facebook.com/WeAreLimitlessStudios\nActiveBury: https://www.activebury.com/events/1597
URL:https://www.activebury.com/events/1597
END:VEVENT
END:VCALENDAR
