BEGIN:VCALENDAR
VERSION:2.0
PRODID:-//ActiveBury//Events//EN
CALSCALE:GREGORIAN
BEGIN:VEVENT
UID:event-1596@activebury.com
DTSTAMP:20260425T133446Z
SUMMARY:Ben Layton 5K
DTSTART;VALUE=DATE:20260516
DTEND;VALUE=DATE:20260517
LOCATION:Downtown Salisbury
DESCRIPTION:The Ben Layton 5K is organized to raise money for Ben's Red Swings and the Leukemia and Lymphoma Society. The race starts at Ben's Red Swings\, goes through the zoo\, and ends back at Ben's Red Swings. A virtual option is available for those who cannot participate in person.\nMore info: https://runsignup.com/Race/MD/Salisbury/BenLaytonMemorial5KRunWalk\nActiveBury: https://www.activebury.com/events/1596
URL:https://www.activebury.com/events/1596
END:VEVENT
END:VCALENDAR
