BEGIN:VCALENDAR
VERSION:2.0
PRODID:-//ActiveBury//Events//EN
CALSCALE:GREGORIAN
BEGIN:VEVENT
UID:event-1595@activebury.com
DTSTAMP:20260425T134002Z
SUMMARY:3rd Friday - Paws on the Plaza
DTSTART;VALUE=DATE:20260515
DTEND;VALUE=DATE:20260516
LOCATION:Downtown Salisbury
DESCRIPTION:More info: https://www.3rdfridaysby.com/\nActiveBury: https://www.activebury.com/events/1595
URL:https://www.activebury.com/events/1595
END:VEVENT
END:VCALENDAR
