BEGIN:VCALENDAR
VERSION:2.0
PRODID:-//ActiveBury//Events//EN
CALSCALE:GREGORIAN
BEGIN:VEVENT
UID:event-1594@activebury.com
DTSTAMP:20260425T134024Z
SUMMARY:Over the Edge for ALICE
DTSTART;VALUE=DATE:20260508
DTEND;VALUE=DATE:20260509
LOCATION:Downtown Salisbury
DESCRIPTION:Join us for 'Over the Edge for ALICE' on May 8\, 2026\, where participants can rappel to raise funds for local households struggling to meet basic needs. Fundraising minimum is $1\,100.\nMore info: https://www.uwles.org/over-edge-alice\nActiveBury: https://www.activebury.com/events/1594
URL:https://www.activebury.com/events/1594
END:VEVENT
END:VCALENDAR
