BEGIN:VCALENDAR
VERSION:2.0
PRODID:-//ActiveBury//Events//EN
CALSCALE:GREGORIAN
BEGIN:VEVENT
UID:event-1592@activebury.com
DTSTAMP:20260425T134027Z
SUMMARY:Salisbury Zoo Stampede
DTSTART;VALUE=DATE:20260502
DTEND;VALUE=DATE:20260503
LOCATION:Downtown Salisbury
DESCRIPTION:Join the Hot Chocolate 5K in City Park on January 1\, 2026. Enjoy a fun run with hot chocolate for participants!\nMore info: https://www.downtownsby.com/events/event-calendar\nActiveBury: https://www.activebury.com/events/1592
URL:https://www.activebury.com/events/1592
END:VEVENT
END:VCALENDAR
