BEGIN:VCALENDAR
VERSION:2.0
PRODID:-//ActiveBury//Events//EN
CALSCALE:GREGORIAN
BEGIN:VEVENT
UID:event-159@activebury.com
DTSTAMP:20260425T133258Z
SUMMARY:Computer Tutor
DTSTART:20260202T103000
DTEND:20260202T113000
LOCATION:Paul S. Sarbanes Branch
DESCRIPTION:This event is in the "Ages 18+" group Cancelled 10:30am–11:30am Ages 18+ Paul S. Sarbanes Branch Closed Registration Available This event is in the "Ages 18+" group Feb 2 2026 Mon Cancelled Computer Tutor 10:30am–11:30am Paul S. Sarbanes Branch Closed Please note you are looking at an event that has already happened. Paul S. Sarbanes Branch STEAM Studio Ages 18+ STEM \, Class or Workshop \, Technology Registration Available Learn the basics in our Computer Tutor series! Self-paced\, hands-on learning for just the basics\, including:\nMore info: https://www.wicomicolibrary.org/event/computer-tutor-21416\nActiveBury: https://www.activebury.com/events/159
URL:https://www.activebury.com/events/159
END:VEVENT
END:VCALENDAR
