BEGIN:VCALENDAR
VERSION:2.0
PRODID:-//ActiveBury//Events//EN
CALSCALE:GREGORIAN
BEGIN:VEVENT
UID:event-1584@activebury.com
DTSTAMP:20260425T133431Z
SUMMARY:Tech Tuesdays
DTSTART:20260526T140000
DTEND:20260526T160000
LOCATION:Central Branch Denton
DESCRIPTION:Need Help with Technology?\nMore info: https://carolinecounty.librarycalendar.com/event/tech-tuesdays-2722\nActiveBury: https://www.activebury.com/events/1584
URL:https://www.activebury.com/events/1584
END:VEVENT
END:VCALENDAR
