BEGIN:VCALENDAR
VERSION:2.0
PRODID:-//ActiveBury//Events//EN
CALSCALE:GREGORIAN
BEGIN:VEVENT
UID:event-1583@activebury.com
DTSTAMP:20260425T133432Z
SUMMARY:Holiday Closing
DTSTART;VALUE=DATE:20260525
DTEND;VALUE=DATE:20260526
DESCRIPTION:May 25 2026 Mon Holiday Closing All Day Closing May 25 2026 Mon Closing Holiday Closing All Day Branches: Central Branch Denton\, Federalsburg Branch\, North County Branch Greensboro\, Off Site\, Outreach Description: Memorial Day\nMore info: https://carolinecounty.librarycalendar.com/event/holiday-closing-1219\nActiveBury: https://www.activebury.com/events/1583
URL:https://www.activebury.com/events/1583
END:VEVENT
END:VCALENDAR
