BEGIN:VCALENDAR
VERSION:2.0
PRODID:-//ActiveBury//Events//EN
CALSCALE:GREGORIAN
BEGIN:VEVENT
UID:event-1582@activebury.com
DTSTAMP:20260425T143655Z
SUMMARY:Tuesday Night Bookclub
DTSTART:20260519T180000
DTEND:20260519T210000
LOCATION:Central Branch Denton
DESCRIPTION:May 19 2026 Tue Tuesday Night Bookclub 6:00pm–9:00pm May 19 2026 Tue Tuesday Night Bookclub 6:00pm–9:00pm This is not a library sponsored event. Library Branch: Central Branch Denton Room: Small Meeting Room Purpose of Meeting Bookclub\nMore info: https://carolinecounty.librarycalendar.com/event/tuesday-night-bookclub-2780\nActiveBury: https://www.activebury.com/events/1582
URL:https://www.activebury.com/events/1582
END:VEVENT
END:VCALENDAR
