BEGIN:VCALENDAR
VERSION:2.0
PRODID:-//ActiveBury//Events//EN
CALSCALE:GREGORIAN
BEGIN:VEVENT
UID:event-1581@activebury.com
DTSTAMP:20260425T133447Z
SUMMARY:Tech Tuesdays
DTSTART:20260519T140000
DTEND:20260519T160000
LOCATION:Central Branch Denton
DESCRIPTION:Need Help with Technology?\nMore info: https://carolinecounty.librarycalendar.com/event/tech-tuesdays-2721\nActiveBury: https://www.activebury.com/events/1581
URL:https://www.activebury.com/events/1581
END:VEVENT
END:VCALENDAR
