BEGIN:VCALENDAR
VERSION:2.0
PRODID:-//ActiveBury//Events//EN
CALSCALE:GREGORIAN
BEGIN:VEVENT
UID:event-1579@activebury.com
DTSTAMP:20260425T133432Z
SUMMARY:Tech Tuesdays
DTSTART:20260512T140000
DTEND:20260512T160000
LOCATION:Central Branch Denton
DESCRIPTION:Need Help with Technology?\nMore info: https://carolinecounty.librarycalendar.com/event/tech-tuesdays-2720\nActiveBury: https://www.activebury.com/events/1579
URL:https://www.activebury.com/events/1579
END:VEVENT
END:VCALENDAR
