BEGIN:VCALENDAR
VERSION:2.0
PRODID:-//ActiveBury//Events//EN
CALSCALE:GREGORIAN
BEGIN:VEVENT
UID:event-1578@activebury.com
DTSTAMP:20260425T133449Z
SUMMARY:Tech Tuesdays
DTSTART:20260505T140000
DTEND:20260505T160000
LOCATION:Central Branch Denton
DESCRIPTION:Need Help with Technology?\nMore info: https://carolinecounty.librarycalendar.com/event/tech-tuesdays-2719\nActiveBury: https://www.activebury.com/events/1578
URL:https://www.activebury.com/events/1578
END:VEVENT
END:VCALENDAR
