BEGIN:VCALENDAR
VERSION:2.0
PRODID:-//ActiveBury//Events//EN
CALSCALE:GREGORIAN
BEGIN:VEVENT
UID:event-1576@activebury.com
DTSTAMP:20260425T153528Z
SUMMARY:Winter/Spring Storytime
DTSTART:20260331T103000
DTEND:20260331T113000
LOCATION:North County Branch Greensboro
DESCRIPTION:Join us for a half-hour of fun songs\, stories\, and fingerplays that encourage the development of early literacy skills.\nMore info: https://carolinecounty.librarycalendar.com/event/winter-storytime-2026\nActiveBury: https://www.activebury.com/events/1576
URL:https://www.activebury.com/events/1576
END:VEVENT
END:VCALENDAR
