BEGIN:VCALENDAR
VERSION:2.0
PRODID:-//ActiveBury//Events//EN
CALSCALE:GREGORIAN
BEGIN:VEVENT
UID:event-1574@activebury.com
DTSTAMP:20260425T134002Z
SUMMARY:2026 African American Read-In
DTSTART:20260328T110000
DTEND:20260328T130000
LOCATION:Central Branch Denton
DESCRIPTION:Please join the local chapters of Alpha Kappa Alpha\, Delta Sigma Theta\, Zeta Phi Beta and Sigma Gamma Rho\, in partnership with the Caroline County Public Library and Caroline County Council of Arts at the Caroline County Public Library (100 Market\nMore info: https://carolinecounty.librarycalendar.com/event/2026-african-american-read-3032\nActiveBury: https://www.activebury.com/events/1574
URL:https://www.activebury.com/events/1574
END:VEVENT
END:VCALENDAR
