BEGIN:VCALENDAR
VERSION:2.0
PRODID:-//ActiveBury//Events//EN
CALSCALE:GREGORIAN
BEGIN:VEVENT
UID:event-1573@activebury.com
DTSTAMP:20260425T133434Z
SUMMARY:Mindful Yoga
DTSTART:20260327T103000
DTEND:20260327T113000
LOCATION:Central Branch Denton
DESCRIPTION:Join us for Mindful Yoga—a supportive practice that combines gentle yoga\, range-of-motion movements\, meditation\, and mindfulness to promote overall well-being.\nMore info: https://carolinecounty.librarycalendar.com/event/mindful-yoga-1968\nActiveBury: https://www.activebury.com/events/1573
URL:https://www.activebury.com/events/1573
END:VEVENT
END:VCALENDAR
