BEGIN:VCALENDAR
VERSION:2.0
PRODID:-//ActiveBury//Events//EN
CALSCALE:GREGORIAN
BEGIN:VEVENT
UID:event-1566@activebury.com
DTSTAMP:20260425T133448Z
SUMMARY:Lego Mania
DTSTART:20260325T170000
DTEND:20260325T190000
LOCATION:North County Branch Greensboro
DESCRIPTION:Calling all young builders! Are you ready to take on this month's Lego® challenge? Come to Lego® Mania and design a hybrid of two animals or free build. For ages 5-12 years. No registration necessary.\nMore info: https://carolinecounty.librarycalendar.com/event/lego-mania-2537\nActiveBury: https://www.activebury.com/events/1566
URL:https://www.activebury.com/events/1566
END:VEVENT
END:VCALENDAR
