BEGIN:VCALENDAR
VERSION:2.0
PRODID:-//ActiveBury//Events//EN
CALSCALE:GREGORIAN
BEGIN:VEVENT
UID:event-1563@activebury.com
DTSTAMP:20260425T133433Z
SUMMARY:Tween Tabletop Club
DTSTART:20260324T160000
DTEND:20260324T190000
LOCATION:Federalsburg Branch
DESCRIPTION:If you've ever wondered what it feels like to slay a dragon or disarm a spiky trap\, keep reading! Aspiring adventurers are invited to join the Tween Tabletop Club!\nMore info: https://carolinecounty.librarycalendar.com/event/tween-tabletop-club-2570\nActiveBury: https://www.activebury.com/events/1563
URL:https://www.activebury.com/events/1563
END:VEVENT
END:VCALENDAR
