BEGIN:VCALENDAR
VERSION:2.0
PRODID:-//ActiveBury//Events//EN
CALSCALE:GREGORIAN
BEGIN:VEVENT
UID:event-1559@activebury.com
DTSTAMP:20260425T164646Z
SUMMARY:Threads of History & Heart: A Talk with Saundra Jo Hayman
DTSTART:20260321T120000
DTEND:20260321T130000
LOCATION:Central Branch Denton
DESCRIPTION:Join us to learn about local author Saundra Jo Hayman\, whose work blends rich storytelling with the history of Maryland’s Eastern Shore. Her most well-known titles include Wheaton Hall\, One Summer Night\, and One Summer Day.\nMore info: https://carolinecounty.librarycalendar.com/event/threads-history-heart-talk-saunda-jo-hayman-2496\nActiveBury: https://www.activebury.com/events/1559
URL:https://www.activebury.com/events/1559
END:VEVENT
END:VCALENDAR
