BEGIN:VCALENDAR
VERSION:2.0
PRODID:-//ActiveBury//Events//EN
CALSCALE:GREGORIAN
BEGIN:VEVENT
UID:event-1558@activebury.com
DTSTAMP:20260425T133446Z
SUMMARY:Time for Tea
DTSTART:20260320T103000
DTEND:20260320T113000
LOCATION:Central Branch Denton
DESCRIPTION:Join the Caroline County Public Library and our community for a morning tea social!\nMore info: https://carolinecounty.librarycalendar.com/event/time-tea-2427\nActiveBury: https://www.activebury.com/events/1558
URL:https://www.activebury.com/events/1558
END:VEVENT
END:VCALENDAR
