BEGIN:VCALENDAR
VERSION:2.0
PRODID:-//ActiveBury//Events//EN
CALSCALE:GREGORIAN
BEGIN:VEVENT
UID:event-1557@activebury.com
DTSTAMP:20260425T134024Z
SUMMARY:Learn to Design 3D Prints with Tinkercad
DTSTART:20260319T180000
DTEND:20260319T193000
LOCATION:Central Branch Denton
DESCRIPTION:Do you want to design your own 3D prints? Come learn how to do it using Tinkercad - free software anyone can use from a web browser!\nMore info: https://carolinecounty.librarycalendar.com/event/tinkercad-basics-2551\nActiveBury: https://www.activebury.com/events/1557
URL:https://www.activebury.com/events/1557
END:VEVENT
END:VCALENDAR
