BEGIN:VCALENDAR
VERSION:2.0
PRODID:-//ActiveBury//Events//EN
CALSCALE:GREGORIAN
BEGIN:VEVENT
UID:event-1555@activebury.com
DTSTAMP:20260425T134026Z
SUMMARY:Anime Club
DTSTART:20260318T160000
DTEND:20260318T173000
LOCATION:Central Branch Denton
DESCRIPTION:Calling all otakus! Our next meeting of the Anime Club is just around the corner! Watch anime while snacking on Hi-Chews and Pocky\, share your hot takes about your favorite manga\, and stretch your crafty muscles at the Creative Corner.\nMore info: https://carolinecounty.librarycalendar.com/event/anime-club-2572\nActiveBury: https://www.activebury.com/events/1555
URL:https://www.activebury.com/events/1555
END:VEVENT
END:VCALENDAR
