BEGIN:VCALENDAR
VERSION:2.0
PRODID:-//ActiveBury//Events//EN
CALSCALE:GREGORIAN
BEGIN:VEVENT
UID:event-1553@activebury.com
DTSTAMP:20260425T133432Z
SUMMARY:Winter/Spring Storytime
DTSTART:20260318T103000
DTEND:20260318T113000
LOCATION:Central Branch Denton
DESCRIPTION:Join us for a half-hour of fun songs\, stories\, and fingerplays that encourage the development of early literacy skills.\nMore info: https://carolinecounty.librarycalendar.com/event/winterspring-storytime-2058\nActiveBury: https://www.activebury.com/events/1553
URL:https://www.activebury.com/events/1553
END:VEVENT
END:VCALENDAR
