BEGIN:VCALENDAR
VERSION:2.0
PRODID:-//ActiveBury//Events//EN
CALSCALE:GREGORIAN
BEGIN:VEVENT
UID:event-1552@activebury.com
DTSTAMP:20260425T143640Z
SUMMARY:Mindful Yoga
DTSTART:20260318T103000
DTEND:20260318T113000
LOCATION:Federalsburg Branch
DESCRIPTION:Join us for Mindful Yoga—a supportive practice that combines gentle yoga\, range-of-motion movements\, meditation\, and mindfulness to promote overall well-being.\nMore info: https://carolinecounty.librarycalendar.com/event/mindful-yoga-1972\nActiveBury: https://www.activebury.com/events/1552
URL:https://www.activebury.com/events/1552
END:VEVENT
END:VCALENDAR
