BEGIN:VCALENDAR
VERSION:2.0
PRODID:-//ActiveBury//Events//EN
CALSCALE:GREGORIAN
BEGIN:VEVENT
UID:event-1549@activebury.com
DTSTAMP:20260425T142334Z
SUMMARY:Winter/Spring Storytime
DTSTART:20260317T103000
DTEND:20260317T113000
LOCATION:North County Branch Greensboro
DESCRIPTION:Join us for a half-hour of fun songs\, stories\, and fingerplays that encourage the development of early literacy skills.\nMore info: https://carolinecounty.librarycalendar.com/event/winter-storytime-2024\nActiveBury: https://www.activebury.com/events/1549
URL:https://www.activebury.com/events/1549
END:VEVENT
END:VCALENDAR
