BEGIN:VCALENDAR
VERSION:2.0
PRODID:-//ActiveBury//Events//EN
CALSCALE:GREGORIAN
BEGIN:VEVENT
UID:event-1548@activebury.com
DTSTAMP:20260425T133432Z
SUMMARY:Petite Picassos: Springtime Fun!
DTSTART:20260316T103000
DTEND:20260316T113000
LOCATION:Central Branch Denton
DESCRIPTION:Bring your little ones to this process art program. Children will experiment with different art materials and techniques.\nMore info: https://carolinecounty.librarycalendar.com/event/petite-picassos-2587\nActiveBury: https://www.activebury.com/events/1548
URL:https://www.activebury.com/events/1548
END:VEVENT
END:VCALENDAR
