BEGIN:VCALENDAR
VERSION:2.0
PRODID:-//ActiveBury//Events//EN
CALSCALE:GREGORIAN
BEGIN:VEVENT
UID:event-1547@activebury.com
DTSTAMP:20260425T134027Z
SUMMARY:Walk-in Crisis Intervention
DTSTART:20260316T100000
DTEND:20260316T120000
LOCATION:Central Branch Denton
DESCRIPTION:Mar 16 2026 Mon Walk-in Crisis Intervention 10:00am–12:00pm Mar 16 2026 Mon Walk-in Crisis Intervention 10:00am–12:00pm This is not a library sponsored event. Library Branch: Central Branch Denton Room: Small Study Room A Purpose of Meeting Caroline County Public Library is partnering with Affiliated Santé Group to provide seasonal walk-in support for crisis intervention on Mondays at out Denton location from 10 to 12pm.\nMore info: https://carolinecounty.librarycalendar.com/event/walk-crisis-intervention-1003\nActiveBury: https://www.activebury.com/events/1547
URL:https://www.activebury.com/events/1547
END:VEVENT
END:VCALENDAR
