BEGIN:VCALENDAR
VERSION:2.0
PRODID:-//ActiveBury//Events//EN
CALSCALE:GREGORIAN
BEGIN:VEVENT
UID:event-1546@activebury.com
DTSTAMP:20260425T182934Z
SUMMARY:Spring Seed Swap
DTSTART:20260314T100000
DTEND:20260314T120000
LOCATION:Central Branch Denton
DESCRIPTION:Kickstart your spring gardening at our seed exchange! Bring your extra seeds\, or simply come peruse seeds we have on to offer and get advice from local gardeners on planting.\nMore info: https://carolinecounty.librarycalendar.com/event/seed-exchange-2497\nActiveBury: https://www.activebury.com/events/1546
URL:https://www.activebury.com/events/1546
END:VEVENT
END:VCALENDAR
