BEGIN:VCALENDAR
VERSION:2.0
PRODID:-//ActiveBury//Events//EN
CALSCALE:GREGORIAN
BEGIN:VEVENT
UID:event-1545@activebury.com
DTSTAMP:20260425T164717Z
SUMMARY:Lift Every Voice: Singing the Path to Freedom
DTSTART:20260313T180000
DTEND:20260313T190000
LOCATION:Central Branch Denton
DESCRIPTION:Join Linda Harris for an all-encompassing musical journey.\nMore info: https://carolinecounty.librarycalendar.com/event/lift-every-voice-singing-path-freedom-1669\nActiveBury: https://www.activebury.com/events/1545
URL:https://www.activebury.com/events/1545
END:VEVENT
END:VCALENDAR
