BEGIN:VCALENDAR
VERSION:2.0
PRODID:-//ActiveBury//Events//EN
CALSCALE:GREGORIAN
BEGIN:VEVENT
UID:event-1540@activebury.com
DTSTAMP:20260425T134546Z
SUMMARY:Tabling - People's Insurance Counsel
DTSTART:20260311T103000
DTEND:20260311T123000
LOCATION:Central Branch Denton
DESCRIPTION:Mar 11 2026 Wed Tabling - People's Insurance Counsel 10:30am–12:30pm Mar 11 2026 Wed Tabling - People's Insurance Counsel 10:30am–12:30pm This is not a library sponsored event. Library Branch: Central Branch Denton Room: Central Tabling Space Purpose of Meeting Offer services to the public\nMore info: https://carolinecounty.librarycalendar.com/event/tabling-peoples-insurance-counsel-3268\nActiveBury: https://www.activebury.com/events/1540
URL:https://www.activebury.com/events/1540
END:VEVENT
END:VCALENDAR
