BEGIN:VCALENDAR
VERSION:2.0
PRODID:-//ActiveBury//Events//EN
CALSCALE:GREGORIAN
BEGIN:VEVENT
UID:event-1539@activebury.com
DTSTAMP:20260425T133828Z
SUMMARY:Painting Small Planter Pots
DTSTART:20260310T180000
DTEND:20260310T193000
LOCATION:Federalsburg Branch
DESCRIPTION:It is about time to get ready for the Spring season! Want to brighten up your space with your own painted planter pot? Register to join us at Federalsburg on March 10th to welcome spring by painting your own little plant pot.\nMore info: https://carolinecounty.librarycalendar.com/event/paint-small-planter-pots-2528\nActiveBury: https://www.activebury.com/events/1539
URL:https://www.activebury.com/events/1539
END:VEVENT
END:VCALENDAR
