BEGIN:VCALENDAR
VERSION:2.0
PRODID:-//ActiveBury//Events//EN
CALSCALE:GREGORIAN
BEGIN:VEVENT
UID:event-1536@activebury.com
DTSTAMP:20260425T134026Z
SUMMARY:Caroline Craft (NCB) - Drawstring Trinket Pouch
DTSTART;VALUE=DATE:20260309
DTEND;VALUE=DATE:20260310
LOCATION:North County Branch Greensboro
DESCRIPTION:Each month CCPL offers a craft for patrons to take home and work on. Starting March 9th\, these kits will be released. This craft will contain supplies key to creating a no-sew drawstring trinket pouch to store some of your special treasures in!\nMore info: https://carolinecounty.librarycalendar.com/event/caroline-craft-ncb-drawstring-trinket-pouch-2531\nActiveBury: https://www.activebury.com/events/1536
URL:https://www.activebury.com/events/1536
END:VEVENT
END:VCALENDAR
