BEGIN:VCALENDAR
VERSION:2.0
PRODID:-//ActiveBury//Events//EN
CALSCALE:GREGORIAN
BEGIN:VEVENT
UID:event-1532@activebury.com
DTSTAMP:20260425T154300Z
SUMMARY:The Art of Storytelling
DTSTART:20260307T120000
DTEND:20260307T133000
LOCATION:Central Branch Denton
DESCRIPTION:Join the Caroline County library and community to explore the art of storytelling on Saturday\, March 7th at 12:00 pm with Liz Newell as a foundational aspect of human connection and healing.\nMore info: https://carolinecounty.librarycalendar.com/event/art-story-telling-759\nActiveBury: https://www.activebury.com/events/1532
URL:https://www.activebury.com/events/1532
END:VEVENT
END:VCALENDAR
