BEGIN:VCALENDAR
VERSION:2.0
PRODID:-//ActiveBury//Events//EN
CALSCALE:GREGORIAN
BEGIN:VEVENT
UID:event-1531@activebury.com
DTSTAMP:20260425T134024Z
SUMMARY:Tabling - Mid Shore Behavioral Health
DTSTART:20260306T133000
DTEND:20260306T153000
LOCATION:Central Branch Denton
DESCRIPTION:Mar 6 2026 Fri Tabling - Mid Shore Behavioral Health 1:30pm–3:30pm Mar 6 2026 Fri Tabling - Mid Shore Behavioral Health 1:30pm–3:30pm This is not a library sponsored event. Library Branch: Central Branch Denton Room: Central Tabling Space Purpose of Meeting Share information about harm reduction resources.\nMore info: https://carolinecounty.librarycalendar.com/event/tabling-mid-shore-behavioral-health-3336\nActiveBury: https://www.activebury.com/events/1531
URL:https://www.activebury.com/events/1531
END:VEVENT
END:VCALENDAR
