BEGIN:VCALENDAR
VERSION:2.0
PRODID:-//ActiveBury//Events//EN
CALSCALE:GREGORIAN
BEGIN:VEVENT
UID:event-1530@activebury.com
DTSTAMP:20260425T133431Z
SUMMARY:CCPL 3D Printer Certification
DTSTART:20260305T183000
DTEND:20260305T193000
LOCATION:Central Branch Denton
DESCRIPTION:Did you know you can use 3D printers at the library? Come learn how at our 3D printer certification! This program is for ages 15 and up. Age restrictions will be strictly enforced.\nMore info: https://carolinecounty.librarycalendar.com/event/ccpl-3d-printer-certification-2676\nActiveBury: https://www.activebury.com/events/1530
URL:https://www.activebury.com/events/1530
END:VEVENT
END:VCALENDAR
