BEGIN:VCALENDAR
VERSION:2.0
PRODID:-//ActiveBury//Events//EN
CALSCALE:GREGORIAN
BEGIN:VEVENT
UID:event-153@activebury.com
DTSTAMP:20260425T133817Z
SUMMARY:Explore the Shore Outdoor Expo
DTSTART:20260221T100000
DTEND:20260221T160000
LOCATION:411A Dorchester Ave Cambridge \, MD 21613
DESCRIPTION:More info: https://www.facebook.com/events/1534539004239043/\nActiveBury: https://www.activebury.com/events/153
URL:https://www.activebury.com/events/153
END:VEVENT
END:VCALENDAR
