BEGIN:VCALENDAR
VERSION:2.0
PRODID:-//ActiveBury//Events//EN
CALSCALE:GREGORIAN
BEGIN:VEVENT
UID:event-1529@activebury.com
DTSTAMP:20260425T134027Z
SUMMARY:Tabling - Big Brothers Big Sisters of the Eastern Shore\, Inc.
DTSTART:20260305T133000
DTEND:20260305T153000
LOCATION:Central Branch Denton
DESCRIPTION:Mar 5 2026 Thu Tabling - Big Brothers Big Sisters of the Eastern Shore\, Inc. 1:30pm–3:30pm Mar 5 2026 Thu Tabling - Big Brothers Big Sisters of the Eastern Shore\, Inc. 1:30pm–3:30pm This is not a library sponsored event. Library Branch: Central Branch Denton Room: Central Tabling Space Purpose of Meeting Share information about our mentoring programs\, answer questions\, and provide light\, engaging outreach\nMore info: https://carolinecounty.librarycalendar.com/event/tabling-big-brothers-big-sisters-eastern-shore-inc-3335\nActiveBury: https://www.activebury.com/events/1529
URL:https://www.activebury.com/events/1529
END:VEVENT
END:VCALENDAR
