BEGIN:VCALENDAR
VERSION:2.0
PRODID:-//ActiveBury//Events//EN
CALSCALE:GREGORIAN
BEGIN:VEVENT
UID:event-1528@activebury.com
DTSTAMP:20260425T153527Z
SUMMARY:Winter/Spring Storytime
DTSTART:20260305T103000
DTEND:20260305T113000
LOCATION:Federalsburg Branch
DESCRIPTION:Join us for a half-hour of fun songs\, stories\, and fingerplays that encourage the development of early literacy skills.\nMore info: https://carolinecounty.librarycalendar.com/event/winterspring-storytime-2839\nActiveBury: https://www.activebury.com/events/1528
URL:https://www.activebury.com/events/1528
END:VEVENT
END:VCALENDAR
