BEGIN:VCALENDAR
VERSION:2.0
PRODID:-//ActiveBury//Events//EN
CALSCALE:GREGORIAN
BEGIN:VEVENT
UID:event-1525@activebury.com
DTSTAMP:20260425T133448Z
SUMMARY:Tech Tuesdays
DTSTART:20260303T140000
DTEND:20260303T160000
LOCATION:Central Branch Denton
DESCRIPTION:Need Help with Technology? Join us for Tech Tuesdays—a weekly drop-in support session designed to help adults and seniors with basic digital skills.\nMore info: https://carolinecounty.librarycalendar.com/event/tech-tuesdays-2353\nActiveBury: https://www.activebury.com/events/1525
URL:https://www.activebury.com/events/1525
END:VEVENT
END:VCALENDAR
