BEGIN:VCALENDAR
VERSION:2.0
PRODID:-//ActiveBury//Events//EN
CALSCALE:GREGORIAN
BEGIN:VEVENT
UID:event-1523@activebury.com
DTSTAMP:20260425T133450Z
SUMMARY:Playtime at the library
DTSTART:20260302T103000
DTEND:20260302T113000
LOCATION:Central Branch Denton
DESCRIPTION:Playtime at the Library is an hour for your toddler or preschooler to learn through playing with other children. Each session will involve sensory and imaginative play stations with age-appropriate toys.\nMore info: https://carolinecounty.librarycalendar.com/event/playtime-library-2586\nActiveBury: https://www.activebury.com/events/1523
URL:https://www.activebury.com/events/1523
END:VEVENT
END:VCALENDAR
