BEGIN:VCALENDAR
VERSION:2.0
PRODID:-//ActiveBury//Events//EN
CALSCALE:GREGORIAN
BEGIN:VEVENT
UID:event-1521@activebury.com
DTSTAMP:20260425T133254Z
SUMMARY:Show All
DTSTART:20260226T090000
DTEND:20260226T170000
DESCRIPTION:More info: https://worcesterlibrary.libcal.com/calendar/Library_Events\nActiveBury: https://www.activebury.com/events/1521
URL:https://www.activebury.com/events/1521
END:VEVENT
END:VCALENDAR
