BEGIN:VCALENDAR
VERSION:2.0
PRODID:-//ActiveBury//Events//EN
CALSCALE:GREGORIAN
BEGIN:VEVENT
UID:event-1520@activebury.com
DTSTAMP:20260425T133449Z
SUMMARY:Global Goodies
DTSTART:20260228T130000
DTEND:20260228T140000
LOCATION:Ocean Pines Large Meeting Room Branch: Ocean Pines Branch Audience: 12 to 18 6 to 11 Categories: Farm To Library
DESCRIPTION:Are all snacks created equal? Let's find out! Taste test snacks and sweets from another country! All materials provided. Ages 8 and up. 410-208-4014\nMore info: https://worcesterlibrary.libcal.com/event/15385712?hs=a\nActiveBury: https://www.activebury.com/events/1520
URL:https://www.activebury.com/events/1520
END:VEVENT
END:VCALENDAR
