BEGIN:VCALENDAR
VERSION:2.0
PRODID:-//ActiveBury//Events//EN
CALSCALE:GREGORIAN
BEGIN:VEVENT
UID:event-152@activebury.com
DTSTAMP:20260425T133246Z
SUMMARY:Evolution of Sound
DTSTART:20260205T180000
DTEND:20260205T210000
LOCATION:447 Race St Cambridge \, MD 21613
DESCRIPTION:In celebration of Black History Month\, the Nanticoke Historic Preservation Alliance presents a special musical event\, Evolution of sound. With Linda Harris\, David Cole and the Main Street blues Band\, Jayla Elise Diggs with Dorchester Dreams. Special guest performs include Shade Radar on native flute\, Bill Caudle on African drums\, Curtis White with chamber songs and Gilbert Cephas with spirituals (voice). Thursday\, Feb. 5. Doors open at 6pm\; performance starts 6:30pm. At 447 Venue\, 447 Race St.\, Cambridge\, MD. Advance tickets cost $30 ($35 at door)\; $10 students. Limited reserved seating at $50. Buy tickets in advance at restoreshandssell.org.\nMore info: https://www.eventbrite.com/e/evolution-of-sound-tickets-1977303178033\nActiveBury: https://www.activebury.com/events/152
URL:https://www.activebury.com/events/152
END:VEVENT
END:VCALENDAR
